BEGIN:VCALENDAR
VERSION:2.0
PRODID:-// - ECPv6.15.20//NONSGML v1.0//EN
CALSCALE:GREGORIAN
METHOD:PUBLISH
X-ORIGINAL-URL:https://aprresources.com
X-WR-CALDESC:Events for 
REFRESH-INTERVAL;VALUE=DURATION:PT1H
X-Robots-Tag:noindex
X-PUBLISHED-TTL:PT1H
BEGIN:VTIMEZONE
TZID:America/New_York
BEGIN:DAYLIGHT
TZOFFSETFROM:-0500
TZOFFSETTO:-0400
TZNAME:EDT
DTSTART:20250309T070000
END:DAYLIGHT
BEGIN:STANDARD
TZOFFSETFROM:-0400
TZOFFSETTO:-0500
TZNAME:EST
DTSTART:20251102T060000
END:STANDARD
BEGIN:DAYLIGHT
TZOFFSETFROM:-0500
TZOFFSETTO:-0400
TZNAME:EDT
DTSTART:20260308T070000
END:DAYLIGHT
BEGIN:STANDARD
TZOFFSETFROM:-0400
TZOFFSETTO:-0500
TZNAME:EST
DTSTART:20261101T060000
END:STANDARD
BEGIN:DAYLIGHT
TZOFFSETFROM:-0500
TZOFFSETTO:-0400
TZNAME:EDT
DTSTART:20270314T070000
END:DAYLIGHT
BEGIN:STANDARD
TZOFFSETFROM:-0400
TZOFFSETTO:-0500
TZNAME:EST
DTSTART:20271107T060000
END:STANDARD
END:VTIMEZONE
BEGIN:VEVENT
DTSTART;TZID=America/New_York:20260401T080000
DTEND;TZID=America/New_York:20260402T160000
DTSTAMP:20260424T101239
CREATED:20260318T164654Z
LAST-MODIFIED:20260318T164654Z
UID:10001362-1775030400-1775145600@aprresources.com
SUMMARY:Fujitsu ASD Altoona
DESCRIPTION:This is an advanced 2-day class covering all things technical on Fujitsu AIRSTAGE systems. The material covers single zones\, Multi 18K through 45K and the 4-ton Flex Multi units in a combination of classroom and hands-on training. Contractor tool gift included (Valued at $150+). \nPREREQUISITE: Must have completed either Next Tech or ETSD prior to registering for this class. \n*SPACE IS LIMITED. \nTrainers: Mark Elmer & Ken Kramer \nPlease note: Beginning fall 2024\, APR Supply Co. will be implementing a new payment and cancellation policy. Please click here to view these new stipulations. 
URL:https://aprresources.com/event/fujitsu-asd-altoona-6/
LOCATION:APR Supply Co – Altoona\, 4141 S. 6th Avenue\, Altoona\, PA\, 16603\, United States
CATEGORIES:Training
ATTACH;FMTTYPE=image/png:https://aprresources.com/wp-content/uploads/2024/01/Fujitsu-Featured-Pic-.png
ORGANIZER;CN="APR Marketing Department":MAILTO:marketing@aprsupply.com
END:VEVENT
END:VCALENDAR